BEGIN:VCALENDAR
VERSION:2.0
PRODID:-//Delaware&#039;s Coronavirus Official Website - ECPv5.8.0//NONSGML v1.0//EN
CALSCALE:GREGORIAN
METHOD:PUBLISH
X-WR-CALNAME:Delaware&#039;s Coronavirus Official Website
X-ORIGINAL-URL:https://coronavirus.delaware.gov
X-WR-CALDESC:Events for Delaware&#039;s Coronavirus Official Website
BEGIN:VTIMEZONE
TZID:America/New_York
BEGIN:DAYLIGHT
TZOFFSETFROM:-0500
TZOFFSETTO:-0400
TZNAME:EDT
DTSTART:20210314T070000
END:DAYLIGHT
BEGIN:STANDARD
TZOFFSETFROM:-0400
TZOFFSETTO:-0500
TZNAME:EST
DTSTART:20211107T060000
END:STANDARD
END:VTIMEZONE
BEGIN:VEVENT
DTSTART;TZID=America/New_York:20210812T080000
DTEND;TZID=America/New_York:20210812T120000
DTSTAMP:20210812T082737
CREATED:20210520T141932Z
LAST-MODIFIED:20210607T140850Z
UID:244754-1628755200-1628769600@coronavirus.delaware.gov
SUMMARY:Doctors Pathology Services Drive Thru Testing Dover
DESCRIPTION:No-cost drive thru or walk-up nasal swab testing at Doctors Pathology Services\, 1253 College Park Drive\, Dover\, DE 19904. \nTesting is available for those with or without health insurance. \nResults are available within 72 hours and patients may access their results online. Please visit www.dpspa.com/covid19 for more information.
URL:https://coronavirus.delaware.gov/event/doctors-pathology-services-drive-thru-testing-dover-3/2021-08-12/
LOCATION:Doctors Pathology Services\, 1253 College Park Drive\, Dover\, DE\, 19904\, United States
GEO:39.1807692;-75.553007
X-APPLE-STRUCTURED-LOCATION;VALUE=URI;X-ADDRESS=Doctors Pathology Services 1253 College Park Drive Dover DE 19904 United States;X-APPLE-RADIUS=500;X-TITLE=1253 College Park Drive:geo:-75.553007,39.1807692
END:VEVENT
BEGIN:VEVENT
DTSTART;TZID=America/New_York:20210813T080000
DTEND;TZID=America/New_York:20210813T120000
DTSTAMP:20210812T082737
CREATED:20210520T141932Z
LAST-MODIFIED:20210607T140851Z
UID:244757-1628841600-1628856000@coronavirus.delaware.gov
SUMMARY:Doctors Pathology Services Drive Thru Testing Dover
DESCRIPTION:No-cost drive thru or walk-up nasal swab testing at Doctors Pathology Services\, 1253 College Park Drive\, Dover\, DE 19904. \nTesting is available for those with or without health insurance. \nResults are available within 72 hours and patients may access their results online. Please visit www.dpspa.com/covid19 for more information.
URL:https://coronavirus.delaware.gov/event/doctors-pathology-services-drive-thru-testing-dover-3/2021-08-13/
LOCATION:Doctors Pathology Services\, 1253 College Park Drive\, Dover\, DE\, 19904\, United States
GEO:39.1807692;-75.553007
X-APPLE-STRUCTURED-LOCATION;VALUE=URI;X-ADDRESS=Doctors Pathology Services 1253 College Park Drive Dover DE 19904 United States;X-APPLE-RADIUS=500;X-TITLE=1253 College Park Drive:geo:-75.553007,39.1807692
END:VEVENT
BEGIN:VEVENT
DTSTART;TZID=America/New_York:20210816T080000
DTEND;TZID=America/New_York:20210816T120000
DTSTAMP:20210812T082737
CREATED:20210520T141932Z
LAST-MODIFIED:20210607T140851Z
UID:244760-1629100800-1629115200@coronavirus.delaware.gov
SUMMARY:Doctors Pathology Services Drive Thru Testing Dover
DESCRIPTION:No-cost drive thru or walk-up nasal swab testing at Doctors Pathology Services\, 1253 College Park Drive\, Dover\, DE 19904. \nTesting is available for those with or without health insurance. \nResults are available within 72 hours and patients may access their results online. Please visit www.dpspa.com/covid19 for more information.
URL:https://coronavirus.delaware.gov/event/doctors-pathology-services-drive-thru-testing-dover-3/2021-08-16/
LOCATION:Doctors Pathology Services\, 1253 College Park Drive\, Dover\, DE\, 19904\, United States
GEO:39.1807692;-75.553007
X-APPLE-STRUCTURED-LOCATION;VALUE=URI;X-ADDRESS=Doctors Pathology Services 1253 College Park Drive Dover DE 19904 United States;X-APPLE-RADIUS=500;X-TITLE=1253 College Park Drive:geo:-75.553007,39.1807692
END:VEVENT
BEGIN:VEVENT
DTSTART;TZID=America/New_York:20210817T080000
DTEND;TZID=America/New_York:20210817T120000
DTSTAMP:20210812T082737
CREATED:20210520T141932Z
LAST-MODIFIED:20210607T140851Z
UID:244763-1629187200-1629201600@coronavirus.delaware.gov
SUMMARY:Doctors Pathology Services Drive Thru Testing Dover
DESCRIPTION:No-cost drive thru or walk-up nasal swab testing at Doctors Pathology Services\, 1253 College Park Drive\, Dover\, DE 19904. \nTesting is available for those with or without health insurance. \nResults are available within 72 hours and patients may access their results online. Please visit www.dpspa.com/covid19 for more information.
URL:https://coronavirus.delaware.gov/event/doctors-pathology-services-drive-thru-testing-dover-3/2021-08-17/
LOCATION:Doctors Pathology Services\, 1253 College Park Drive\, Dover\, DE\, 19904\, United States
GEO:39.1807692;-75.553007
X-APPLE-STRUCTURED-LOCATION;VALUE=URI;X-ADDRESS=Doctors Pathology Services 1253 College Park Drive Dover DE 19904 United States;X-APPLE-RADIUS=500;X-TITLE=1253 College Park Drive:geo:-75.553007,39.1807692
END:VEVENT
BEGIN:VEVENT
DTSTART;TZID=America/New_York:20210818T080000
DTEND;TZID=America/New_York:20210818T120000
DTSTAMP:20210812T082737
CREATED:20210520T141932Z
LAST-MODIFIED:20210607T140852Z
UID:244766-1629273600-1629288000@coronavirus.delaware.gov
SUMMARY:Doctors Pathology Services Drive Thru Testing Dover
DESCRIPTION:No-cost drive thru or walk-up nasal swab testing at Doctors Pathology Services\, 1253 College Park Drive\, Dover\, DE 19904. \nTesting is available for those with or without health insurance. \nResults are available within 72 hours and patients may access their results online. Please visit www.dpspa.com/covid19 for more information.
URL:https://coronavirus.delaware.gov/event/doctors-pathology-services-drive-thru-testing-dover-3/2021-08-18/
LOCATION:Doctors Pathology Services\, 1253 College Park Drive\, Dover\, DE\, 19904\, United States
GEO:39.1807692;-75.553007
X-APPLE-STRUCTURED-LOCATION;VALUE=URI;X-ADDRESS=Doctors Pathology Services 1253 College Park Drive Dover DE 19904 United States;X-APPLE-RADIUS=500;X-TITLE=1253 College Park Drive:geo:-75.553007,39.1807692
END:VEVENT
BEGIN:VEVENT
DTSTART;TZID=America/New_York:20210819T080000
DTEND;TZID=America/New_York:20210819T120000
DTSTAMP:20210812T082737
CREATED:20210520T141932Z
LAST-MODIFIED:20210607T140852Z
UID:244769-1629360000-1629374400@coronavirus.delaware.gov
SUMMARY:Doctors Pathology Services Drive Thru Testing Dover
DESCRIPTION:No-cost drive thru or walk-up nasal swab testing at Doctors Pathology Services\, 1253 College Park Drive\, Dover\, DE 19904. \nTesting is available for those with or without health insurance. \nResults are available within 72 hours and patients may access their results online. Please visit www.dpspa.com/covid19 for more information.
URL:https://coronavirus.delaware.gov/event/doctors-pathology-services-drive-thru-testing-dover-3/2021-08-19/
LOCATION:Doctors Pathology Services\, 1253 College Park Drive\, Dover\, DE\, 19904\, United States
GEO:39.1807692;-75.553007
X-APPLE-STRUCTURED-LOCATION;VALUE=URI;X-ADDRESS=Doctors Pathology Services 1253 College Park Drive Dover DE 19904 United States;X-APPLE-RADIUS=500;X-TITLE=1253 College Park Drive:geo:-75.553007,39.1807692
END:VEVENT
BEGIN:VEVENT
DTSTART;TZID=America/New_York:20210820T080000
DTEND;TZID=America/New_York:20210820T120000
DTSTAMP:20210812T082737
CREATED:20210520T141932Z
LAST-MODIFIED:20210607T140853Z
UID:245265-1629446400-1629460800@coronavirus.delaware.gov
SUMMARY:Doctors Pathology Services Drive Thru Testing Dover
DESCRIPTION:No-cost drive thru or walk-up nasal swab testing at Doctors Pathology Services\, 1253 College Park Drive\, Dover\, DE 19904. \nTesting is available for those with or without health insurance. \nResults are available within 72 hours and patients may access their results online. Please visit www.dpspa.com/covid19 for more information.
URL:https://coronavirus.delaware.gov/event/doctors-pathology-services-drive-thru-testing-dover-3/2021-08-20/
LOCATION:Doctors Pathology Services\, 1253 College Park Drive\, Dover\, DE\, 19904\, United States
GEO:39.1807692;-75.553007
X-APPLE-STRUCTURED-LOCATION;VALUE=URI;X-ADDRESS=Doctors Pathology Services 1253 College Park Drive Dover DE 19904 United States;X-APPLE-RADIUS=500;X-TITLE=1253 College Park Drive:geo:-75.553007,39.1807692
END:VEVENT
BEGIN:VEVENT
DTSTART;TZID=America/New_York:20210823T080000
DTEND;TZID=America/New_York:20210823T120000
DTSTAMP:20210812T082737
CREATED:20210520T141932Z
LAST-MODIFIED:20210607T140853Z
UID:245799-1629705600-1629720000@coronavirus.delaware.gov
SUMMARY:Doctors Pathology Services Drive Thru Testing Dover
DESCRIPTION:No-cost drive thru or walk-up nasal swab testing at Doctors Pathology Services\, 1253 College Park Drive\, Dover\, DE 19904. \nTesting is available for those with or without health insurance. \nResults are available within 72 hours and patients may access their results online. Please visit www.dpspa.com/covid19 for more information.
URL:https://coronavirus.delaware.gov/event/doctors-pathology-services-drive-thru-testing-dover-3/2021-08-23/
LOCATION:Doctors Pathology Services\, 1253 College Park Drive\, Dover\, DE\, 19904\, United States
GEO:39.1807692;-75.553007
X-APPLE-STRUCTURED-LOCATION;VALUE=URI;X-ADDRESS=Doctors Pathology Services 1253 College Park Drive Dover DE 19904 United States;X-APPLE-RADIUS=500;X-TITLE=1253 College Park Drive:geo:-75.553007,39.1807692
END:VEVENT
BEGIN:VEVENT
DTSTART;TZID=America/New_York:20210824T080000
DTEND;TZID=America/New_York:20210824T120000
DTSTAMP:20210812T082737
CREATED:20210520T141932Z
LAST-MODIFIED:20210607T140854Z
UID:246411-1629792000-1629806400@coronavirus.delaware.gov
SUMMARY:Doctors Pathology Services Drive Thru Testing Dover
DESCRIPTION:No-cost drive thru or walk-up nasal swab testing at Doctors Pathology Services\, 1253 College Park Drive\, Dover\, DE 19904. \nTesting is available for those with or without health insurance. \nResults are available within 72 hours and patients may access their results online. Please visit www.dpspa.com/covid19 for more information.
URL:https://coronavirus.delaware.gov/event/doctors-pathology-services-drive-thru-testing-dover-3/2021-08-24/
LOCATION:Doctors Pathology Services\, 1253 College Park Drive\, Dover\, DE\, 19904\, United States
GEO:39.1807692;-75.553007
X-APPLE-STRUCTURED-LOCATION;VALUE=URI;X-ADDRESS=Doctors Pathology Services 1253 College Park Drive Dover DE 19904 United States;X-APPLE-RADIUS=500;X-TITLE=1253 College Park Drive:geo:-75.553007,39.1807692
END:VEVENT
BEGIN:VEVENT
DTSTART;TZID=America/New_York:20210825T080000
DTEND;TZID=America/New_York:20210825T120000
DTSTAMP:20210812T082737
CREATED:20210520T141932Z
LAST-MODIFIED:20210607T140855Z
UID:246627-1629878400-1629892800@coronavirus.delaware.gov
SUMMARY:Doctors Pathology Services Drive Thru Testing Dover
DESCRIPTION:No-cost drive thru or walk-up nasal swab testing at Doctors Pathology Services\, 1253 College Park Drive\, Dover\, DE 19904. \nTesting is available for those with or without health insurance. \nResults are available within 72 hours and patients may access their results online. Please visit www.dpspa.com/covid19 for more information.
URL:https://coronavirus.delaware.gov/event/doctors-pathology-services-drive-thru-testing-dover-3/2021-08-25/
LOCATION:Doctors Pathology Services\, 1253 College Park Drive\, Dover\, DE\, 19904\, United States
GEO:39.1807692;-75.553007
X-APPLE-STRUCTURED-LOCATION;VALUE=URI;X-ADDRESS=Doctors Pathology Services 1253 College Park Drive Dover DE 19904 United States;X-APPLE-RADIUS=500;X-TITLE=1253 College Park Drive:geo:-75.553007,39.1807692
END:VEVENT
BEGIN:VEVENT
DTSTART;TZID=America/New_York:20210826T080000
DTEND;TZID=America/New_York:20210826T120000
DTSTAMP:20210812T082737
CREATED:20210520T141932Z
LAST-MODIFIED:20210607T140855Z
UID:247511-1629964800-1629979200@coronavirus.delaware.gov
SUMMARY:Doctors Pathology Services Drive Thru Testing Dover
DESCRIPTION:No-cost drive thru or walk-up nasal swab testing at Doctors Pathology Services\, 1253 College Park Drive\, Dover\, DE 19904. \nTesting is available for those with or without health insurance. \nResults are available within 72 hours and patients may access their results online. Please visit www.dpspa.com/covid19 for more information.
URL:https://coronavirus.delaware.gov/event/doctors-pathology-services-drive-thru-testing-dover-3/2021-08-26/
LOCATION:Doctors Pathology Services\, 1253 College Park Drive\, Dover\, DE\, 19904\, United States
GEO:39.1807692;-75.553007
X-APPLE-STRUCTURED-LOCATION;VALUE=URI;X-ADDRESS=Doctors Pathology Services 1253 College Park Drive Dover DE 19904 United States;X-APPLE-RADIUS=500;X-TITLE=1253 College Park Drive:geo:-75.553007,39.1807692
END:VEVENT
BEGIN:VEVENT
DTSTART;TZID=America/New_York:20210827T080000
DTEND;TZID=America/New_York:20210827T120000
DTSTAMP:20210812T082737
CREATED:20210520T141932Z
LAST-MODIFIED:20210607T140855Z
UID:247613-1630051200-1630065600@coronavirus.delaware.gov
SUMMARY:Doctors Pathology Services Drive Thru Testing Dover
DESCRIPTION:No-cost drive thru or walk-up nasal swab testing at Doctors Pathology Services\, 1253 College Park Drive\, Dover\, DE 19904. \nTesting is available for those with or without health insurance. \nResults are available within 72 hours and patients may access their results online. Please visit www.dpspa.com/covid19 for more information.
URL:https://coronavirus.delaware.gov/event/doctors-pathology-services-drive-thru-testing-dover-3/2021-08-27/
LOCATION:Doctors Pathology Services\, 1253 College Park Drive\, Dover\, DE\, 19904\, United States
GEO:39.1807692;-75.553007
X-APPLE-STRUCTURED-LOCATION;VALUE=URI;X-ADDRESS=Doctors Pathology Services 1253 College Park Drive Dover DE 19904 United States;X-APPLE-RADIUS=500;X-TITLE=1253 College Park Drive:geo:-75.553007,39.1807692
END:VEVENT
BEGIN:VEVENT
DTSTART;TZID=America/New_York:20210830T080000
DTEND;TZID=America/New_York:20210830T120000
DTSTAMP:20210812T082737
CREATED:20210520T141932Z
LAST-MODIFIED:20210607T140856Z
UID:247892-1630310400-1630324800@coronavirus.delaware.gov
SUMMARY:Doctors Pathology Services Drive Thru Testing Dover
DESCRIPTION:No-cost drive thru or walk-up nasal swab testing at Doctors Pathology Services\, 1253 College Park Drive\, Dover\, DE 19904. \nTesting is available for those with or without health insurance. \nResults are available within 72 hours and patients may access their results online. Please visit www.dpspa.com/covid19 for more information.
URL:https://coronavirus.delaware.gov/event/doctors-pathology-services-drive-thru-testing-dover-3/2021-08-30/
LOCATION:Doctors Pathology Services\, 1253 College Park Drive\, Dover\, DE\, 19904\, United States
GEO:39.1807692;-75.553007
X-APPLE-STRUCTURED-LOCATION;VALUE=URI;X-ADDRESS=Doctors Pathology Services 1253 College Park Drive Dover DE 19904 United States;X-APPLE-RADIUS=500;X-TITLE=1253 College Park Drive:geo:-75.553007,39.1807692
END:VEVENT
BEGIN:VEVENT
DTSTART;TZID=America/New_York:20210831T080000
DTEND;TZID=America/New_York:20210831T120000
DTSTAMP:20210812T082737
CREATED:20210520T141932Z
LAST-MODIFIED:20210607T140856Z
UID:247914-1630396800-1630411200@coronavirus.delaware.gov
SUMMARY:Doctors Pathology Services Drive Thru Testing Dover
DESCRIPTION:No-cost drive thru or walk-up nasal swab testing at Doctors Pathology Services\, 1253 College Park Drive\, Dover\, DE 19904. \nTesting is available for those with or without health insurance. \nResults are available within 72 hours and patients may access their results online. Please visit www.dpspa.com/covid19 for more information.
URL:https://coronavirus.delaware.gov/event/doctors-pathology-services-drive-thru-testing-dover-3/2021-08-31/
LOCATION:Doctors Pathology Services\, 1253 College Park Drive\, Dover\, DE\, 19904\, United States
GEO:39.1807692;-75.553007
X-APPLE-STRUCTURED-LOCATION;VALUE=URI;X-ADDRESS=Doctors Pathology Services 1253 College Park Drive Dover DE 19904 United States;X-APPLE-RADIUS=500;X-TITLE=1253 College Park Drive:geo:-75.553007,39.1807692
END:VEVENT
BEGIN:VEVENT
DTSTART;TZID=America/New_York:20210901T080000
DTEND;TZID=America/New_York:20210901T120000
DTSTAMP:20210812T082737
CREATED:20210520T141932Z
LAST-MODIFIED:20210607T140856Z
UID:253967-1630483200-1630497600@coronavirus.delaware.gov
SUMMARY:Doctors Pathology Services Drive Thru Testing Dover
DESCRIPTION:No-cost drive thru or walk-up nasal swab testing at Doctors Pathology Services\, 1253 College Park Drive\, Dover\, DE 19904. \nTesting is available for those with or without health insurance. \nResults are available within 72 hours and patients may access their results online. Please visit www.dpspa.com/covid19 for more information.
URL:https://coronavirus.delaware.gov/event/doctors-pathology-services-drive-thru-testing-dover-3/2021-09-01/
LOCATION:Doctors Pathology Services\, 1253 College Park Drive\, Dover\, DE\, 19904\, United States
GEO:39.1807692;-75.553007
X-APPLE-STRUCTURED-LOCATION;VALUE=URI;X-ADDRESS=Doctors Pathology Services 1253 College Park Drive Dover DE 19904 United States;X-APPLE-RADIUS=500;X-TITLE=1253 College Park Drive:geo:-75.553007,39.1807692
END:VEVENT
END:VCALENDAR