BEGIN:VCALENDAR
VERSION:2.0
PRODID:-//Delaware&#039;s Coronavirus Official Website - ECPv5.8.0//NONSGML v1.0//EN
CALSCALE:GREGORIAN
METHOD:PUBLISH
X-WR-CALNAME:Delaware&#039;s Coronavirus Official Website
X-ORIGINAL-URL:https://coronavirus.delaware.gov
X-WR-CALDESC:Events for Delaware&#039;s Coronavirus Official Website
BEGIN:VTIMEZONE
TZID:America/New_York
BEGIN:DAYLIGHT
TZOFFSETFROM:-0500
TZOFFSETTO:-0400
TZNAME:EDT
DTSTART:20210314T070000
END:DAYLIGHT
BEGIN:STANDARD
TZOFFSETFROM:-0400
TZOFFSETTO:-0500
TZNAME:EST
DTSTART:20211107T060000
END:STANDARD
END:VTIMEZONE
BEGIN:VEVENT
DTSTART;TZID=America/New_York:20210701T100000
DTEND;TZID=America/New_York:20210701T200000
DTSTAMP:20210801T031733
CREATED:20210601T150640Z
LAST-MODIFIED:20210601T151423Z
UID:250202-1625133600-1625169600@coronavirus.delaware.gov
SUMMARY:Rite Aid - Smyrna
DESCRIPTION:This free drive thru nasal swab viral testing (done by swabbing just inside the opening of the nose – not the back) is available Monday through Friday from 10 a.m. to 8 p.m.\, and Saturday and Sunday 10 a.m. to 5 p.m. \nAvailable to patients with or without symptoms; registration at https://www.riteaid.com/pharmacy/services/covid-19-testing is required; no doctor’s referral is required. Most test results available within 3-4 days.
URL:https://coronavirus.delaware.gov/event/rite-aid-smyrna/2021-07-01/
LOCATION:Rite Aid – Smyrna\, 200 Pharmacy Drive\, Smyrna\, DE\, 19977\, United States
GEO:39.2792059;-75.5912999
X-APPLE-STRUCTURED-LOCATION;VALUE=URI;X-ADDRESS=Rite Aid – Smyrna 200 Pharmacy Drive Smyrna DE 19977 United States;X-APPLE-RADIUS=500;X-TITLE=200 Pharmacy Drive:geo:-75.5912999,39.2792059
END:VEVENT
END:VCALENDAR