BEGIN:VCALENDAR
VERSION:2.0
PRODID:-//Delaware&#039;s Coronavirus Official Website - ECPv5.8.0//NONSGML v1.0//EN
CALSCALE:GREGORIAN
METHOD:PUBLISH
X-WR-CALNAME:Delaware&#039;s Coronavirus Official Website
X-ORIGINAL-URL:https://coronavirus.delaware.gov
X-WR-CALDESC:Events for Delaware&#039;s Coronavirus Official Website
BEGIN:VTIMEZONE
TZID:America/New_York
BEGIN:DAYLIGHT
TZOFFSETFROM:-0500
TZOFFSETTO:-0400
TZNAME:EDT
DTSTART:20210314T070000
END:DAYLIGHT
BEGIN:STANDARD
TZOFFSETFROM:-0400
TZOFFSETTO:-0500
TZNAME:EST
DTSTART:20211107T060000
END:STANDARD
END:VTIMEZONE
BEGIN:VEVENT
DTSTART;TZID=America/New_York:20210710T090000
DTEND;TZID=America/New_York:20210710T133000
DTSTAMP:20210810T195926
CREATED:20210601T180000Z
LAST-MODIFIED:20210601T180000Z
UID:252608-1625907600-1625923800@coronavirus.delaware.gov
SUMMARY:Walgreens: Middletown-Summit Bridge Road
DESCRIPTION:This free nasal swab viral testing (done by swabbing just inside the opening of the nose – not the back) is available Monday through Saturday from 9 a.m. to 5 p.m. Testing is closed from 1:30 p.m. to 2:00 p.m. daily. \nAvailable to patients with our without symptoms; appointment is required at https://www.picktime.com/DECOVID19test. You can make an appointment up to 3 days in advance. Most test results available within 3- 4 days.
URL:https://coronavirus.delaware.gov/event/walgreens-middletown-summit-bridge-road/2021-07-10/
LOCATION:Walgreens Middletown (Summit Bridge Road)\, 4465 Summit Bridge Road\, Middletown\, DE\, 19709\, United States
GEO:39.5124526;-75.7106625
X-APPLE-STRUCTURED-LOCATION;VALUE=URI;X-ADDRESS=Walgreens Middletown (Summit Bridge Road) 4465 Summit Bridge Road Middletown DE 19709 United States;X-APPLE-RADIUS=500;X-TITLE=4465 Summit Bridge Road:geo:-75.7106625,39.5124526
END:VEVENT
END:VCALENDAR